BEGIN:VCALENDAR
VERSION:2.0
PRODID:-//Quarterfield Elementary School PTA - ECPv5.16.1.1//NONSGML v1.0//EN
CALSCALE:GREGORIAN
METHOD:PUBLISH
X-ORIGINAL-URL:https://qespta.org
X-WR-CALDESC:Events for Quarterfield Elementary School PTA
REFRESH-INTERVAL;VALUE=DURATION:PT1H
X-Robots-Tag:noindex
X-PUBLISHED-TTL:PT1H
BEGIN:VTIMEZONE
TZID:America/New_York
BEGIN:DAYLIGHT
TZOFFSETFROM:-0500
TZOFFSETTO:-0400
TZNAME:EDT
DTSTART:20240310T070000
END:DAYLIGHT
BEGIN:STANDARD
TZOFFSETFROM:-0400
TZOFFSETTO:-0500
TZNAME:EST
DTSTART:20241103T060000
END:STANDARD
END:VTIMEZONE
BEGIN:VEVENT
DTSTART;TZID=America/New_York:20241011T183000
DTEND;TZID=America/New_York:20241011T200000
DTSTAMP:20260424T161019
CREATED:20240810T001337Z
LAST-MODIFIED:20241004T132514Z
UID:342-1728671400-1728676800@qespta.org
SUMMARY:Movie Night
DESCRIPTION:Grab a blanket and enjoy popcorn and a movie at QES Movie Night! Our students voted on Despicable Me 4 as the movie we will be watching. This is an RVSP required event due to space limitations. A flyer was sent home on October 2 with an RSVP form. Please only return one form for your family. \n 
URL:https://qespta.org/event/movie-night/
LOCATION:Quarterfield Elementary School\, 7967 Quarterfield Road\, Severn\, MD\, 21144\, United States
CATEGORIES:Community Event
END:VEVENT
END:VCALENDAR