BEGIN:VCALENDAR
VERSION:2.0
PRODID:-//Quarterfield Elementary School PTA - ECPv5.16.1.1//NONSGML v1.0//EN
CALSCALE:GREGORIAN
METHOD:PUBLISH
X-ORIGINAL-URL:https://qespta.org
X-WR-CALDESC:Events for Quarterfield Elementary School PTA
REFRESH-INTERVAL;VALUE=DURATION:PT1H
X-Robots-Tag:noindex
X-PUBLISHED-TTL:PT1H
BEGIN:VTIMEZONE
TZID:America/New_York
BEGIN:DAYLIGHT
TZOFFSETFROM:-0500
TZOFFSETTO:-0400
TZNAME:EDT
DTSTART:20240310T070000
END:DAYLIGHT
BEGIN:STANDARD
TZOFFSETFROM:-0400
TZOFFSETTO:-0500
TZNAME:EST
DTSTART:20241103T060000
END:STANDARD
END:VTIMEZONE
BEGIN:VEVENT
DTSTART;TZID=America/New_York:20241103T090000
DTEND;TZID=America/New_York:20241103T130000
DTSTAMP:20260424T131219
CREATED:20240814T230313Z
LAST-MODIFIED:20241030T192844Z
UID:374-1730624400-1730638800@qespta.org
SUMMARY:Fun Run and Vendor Fair
DESCRIPTION:This inaugural event brings together the local community for a day of fitness\, fun\, and celebration\, and we’d love for you to join us in making it an unforgettable experience. \nEvent Details: \n\nDate: Sunday\, November 3\, 2024\nTime: 9:00 AM – 1:00 PM\n\nFun Run Check-in: 9:00am\nFun Run Begins: 9:30am\nVendor Fair runs the duration!\n\n\nLocation: Severn Run High School\, 8065 New Cut Rd\, Severn\, MD 21108\nExpected Attendance: 500+ participants\n\nRunner Registration information – choose one of two options: \n\n$5 to run: https://qes.givebacks.com/store/items/1104619\n$20 to run AND receive a t-shirt: https://qes.givebacks.com/store/items/1104621\n\nDont want to run? That’s okay! Come walk\, cheer on your runners\, or visit our vendors! Vendors expected include (check back for regular updates!): \n\nBubba’s 33\nArundel Acupuncture\nWild Mountain Art\nCece’s Crafty Creations\nThe Baker Next Door\nDesigns by Brandy B\nBurton’s Gifts\nPampered with Kate\nEverything is Possible\nPaperPie\nTeedy Scented Candles\nColor Street\nBatts Concessions\nQTees Funnel Cakes and More\nAWreathmetic\nPixie Quill Press DBA Eriana Halewood\nCozy Crochet Creations\nKent Island Spice Company\nScentsy\nFruitful Juice Bar\nDevon Hall\nB’s Books\nHazel Street Design and Company\nCrafty Mila Shop\nEventLi\nKapoo Kids\nParty Ready\nMary Kay\nSewyouwantafriend\nA Lady Blings\nJems & Jewels\nDanger Zone Desserts\nBlossom and Shine\nChe’lit Candle Company\nSAC Soccer\nBlue Triton Water\nStony Man Coffee (Food Truck)\nCub Scout Pack 209\nBreaking the Borders\nCreaseans Creative Solutions\nTastefully Simple\nFamily Affair\nFace the Colours Planters\,LLC\nEarth-Worker\nElastic Expressions\nCrafty Creations by Cindy\nLinda Hayes\nKendra Scott\nFoxhouse\nKara’s K9 Waffles\nWall2Wall Construction\nSianne’s Bracelets\nHealing is Her LLC\nMagically Macabre\nLittle Readers Club\n\nAre you a vendor? Spots are $30 – reach out to quarterfieldpta@gmail.com for details.
URL:https://qespta.org/event/fun-run-and-vendor-fair/
LOCATION:Severn Run High School\, 8065 New Cut Rd\, Severn\, MD\, 21108\, United States
CATEGORIES:Community Event,Fundraiser
END:VEVENT
BEGIN:VEVENT
DTSTART;TZID=America/New_York:20241113T170000
DTEND;TZID=America/New_York:20241113T190000
DTSTAMP:20260424T131219
CREATED:20241107T141412Z
LAST-MODIFIED:20241107T141412Z
UID:545-1731517200-1731524400@qespta.org
SUMMARY:Story Night and Book Fair Family Night
DESCRIPTION:Come support Ms. Zacks’ media program by stopping into the book fair before joining us for snacks and stories.
URL:https://qespta.org/event/story-night-and-book-fair-family-night/
LOCATION:Quarterfield Elementary School\, 7967 Quarterfield Road\, Severn\, MD\, 21144\, United States
CATEGORIES:Community Event
END:VEVENT
END:VCALENDAR